BEGIN:VCALENDAR
VERSION:2.0
PRODID:-//Twin Cities Retrouvaille - ECPv6.15.12.1//NONSGML v1.0//EN
CALSCALE:GREGORIAN
METHOD:PUBLISH
X-WR-CALNAME:Twin Cities Retrouvaille
X-ORIGINAL-URL:https://www.tcr-mn.org
X-WR-CALDESC:Events for Twin Cities Retrouvaille
REFRESH-INTERVAL;VALUE=DURATION:PT1H
X-Robots-Tag:noindex
X-PUBLISHED-TTL:PT1H
BEGIN:VTIMEZONE
TZID:America/Chicago
BEGIN:DAYLIGHT
TZOFFSETFROM:-0600
TZOFFSETTO:-0500
TZNAME:CDT
DTSTART:20210314T080000
END:DAYLIGHT
BEGIN:STANDARD
TZOFFSETFROM:-0500
TZOFFSETTO:-0600
TZNAME:CST
DTSTART:20211107T070000
END:STANDARD
BEGIN:DAYLIGHT
TZOFFSETFROM:-0600
TZOFFSETTO:-0500
TZNAME:CDT
DTSTART:20220313T080000
END:DAYLIGHT
BEGIN:STANDARD
TZOFFSETFROM:-0500
TZOFFSETTO:-0600
TZNAME:CST
DTSTART:20221106T070000
END:STANDARD
BEGIN:DAYLIGHT
TZOFFSETFROM:-0600
TZOFFSETTO:-0500
TZNAME:CDT
DTSTART:20230312T080000
END:DAYLIGHT
BEGIN:STANDARD
TZOFFSETFROM:-0500
TZOFFSETTO:-0600
TZNAME:CST
DTSTART:20231105T070000
END:STANDARD
END:VTIMEZONE
BEGIN:VEVENT
DTSTART;TZID=America/Chicago:20220219T120000
DTEND;TZID=America/Chicago:20220219T163000
DTSTAMP:20260421T170453
CREATED:20220201T045332Z
LAST-MODIFIED:20220201T045332Z
UID:10000671-1645272000-1645288200@www.tcr-mn.org
SUMMARY:Feb 11\, 2022 Weekend - Post 1 & 2
DESCRIPTION:
URL:https://www.tcr-mn.org/event/feb-11-2022-weekend-post-1-2/
CATEGORIES:Post Session
ATTACH;FMTTYPE=image/jpeg:https://www.tcr-mn.org/wp-content/uploads/2021/11/holding_hands-size_25-resized.jpg
ORGANIZER;CN="POST Coordinators":MAILTO:TCRPost@TCR-MN.org
END:VEVENT
BEGIN:VEVENT
DTSTART;TZID=America/Chicago:20220226T120000
DTEND;TZID=America/Chicago:20220226T163000
DTSTAMP:20260421T170453
CREATED:20220201T045517Z
LAST-MODIFIED:20220201T045517Z
UID:10000672-1645876800-1645893000@www.tcr-mn.org
SUMMARY:Feb 11\, 2022 Weekend - Post 3 & 4
DESCRIPTION:
URL:https://www.tcr-mn.org/event/feb-11-2022-weekend-post-3-4/
CATEGORIES:Post Session
ATTACH;FMTTYPE=image/jpeg:https://www.tcr-mn.org/wp-content/uploads/2021/12/writing-size_25.jpg
ORGANIZER;CN="POST Coordinators":MAILTO:TCRPost@TCR-MN.org
END:VEVENT
END:VCALENDAR